BEGIN:VCALENDAR
VERSION:2.0
PRODID:-//AudioTheme 2.3.1
BEGIN:VEVENT
UID:urn:uuid:0846ac20-b3a2-43c3-be3e-763b00682904
URL:https://halfpintgrowler.com/gigs/city-park-esplanade-farmers-market/
DTSTART;TZID=GMT:20170903T140000
SUMMARY:City Park Esplanade Farmer's Market
LOCATION:City Park Esplanade\, E. Colfax Ave\, Denver\, CO
END:VEVENT
END:VCALENDAR
