BEGIN:VCALENDAR
VERSION:2.0
PRODID:-//AudioTheme 2.3.1
BEGIN:VEVENT
UID:urn:uuid:5a708c8a-7e24-4fd1-a2ca-adb2e9333684
URL:https://halfpintgrowler.com/gigs/cherry-creek-farmers-market/
DTSTART;TZID=GMT:20170603T140000
SUMMARY:Cherry Creek Farmer's Market
LOCATION:Cherry Creek Farmer's Market\, 3000 E 1st Ave.\, Denver\, CO\, 80209
END:VEVENT
END:VCALENDAR
