BEGIN:VCALENDAR
VERSION:2.0
PRODID:-//AudioTheme 2.3.1
BEGIN:VEVENT
UID:urn:uuid:8531bd27-df1c-44ae-aad3-43757a5428ab
URL:https://halfpintgrowler.com/gigs/cherry-creek-farmers-market-2/
DTSTART;TZID=GMT:20160709T140000
SUMMARY:Cherry Creek Farmer's Market
LOCATION:Cherry Creek Farmer's Market\, 3000 E 1st Ave.\, Denver\, CO\, 80209
END:VEVENT
END:VCALENDAR
