BEGIN:VCALENDAR
VERSION:2.0
PRODID:-//AudioTheme 2.3.1
BEGIN:VEVENT
UID:urn:uuid:0b28bd4b-67dc-458f-aa9f-4f5652a75e33
URL:https://halfpintgrowler.com/gigs/canteen-brewhouse-abq/
DTSTART;TZID=GMT:20260515T000000
SUMMARY:Canteen Brewhouse ABQ
DESCRIPTION:What a joy it is to play this place! Fun people\, tasty beer\, great vibes! Swing on by!
LOCATION:Canteen Brewhouse\, 2381 Aztec Rd NE\, Albuquerque\, NM\, 87107
END:VEVENT
END:VCALENDAR
