BEGIN:VCALENDAR
VERSION:2.0
PRODID:-//AudioTheme 2.3.1
BEGIN:VEVENT
UID:urn:uuid:2bd69805-34ab-42bd-8b8d-c89851a004fe
URL:https://halfpintgrowler.com/gigs/brunch-with-half-pint-the-growlers/
DTSTART;TZID=GMT:20190728T163000
SUMMARY:Brunch with Half Pint & The Growlers
DESCRIPTION:We're so excited to be back at Ophelia's. Please join us for a swing brunch!
LOCATION:Ophelia's Electric Soapbox\, 1215 20th Street\, Denver\, CO\, 80202
END:VEVENT
END:VCALENDAR
