BEGIN:VCALENDAR
VERSION:2.0
PRODID:-//AudioTheme 2.3.1
BEGIN:VEVENT
UID:urn:uuid:120df7c8-2fe1-4b00-b058-824368e96430
URL:https://halfpintgrowler.com/gigs/brunch-at-ophelias/
DTSTART;TZID=GMT:20200119T173000
SUMMARY:Brunch at Ophelia's
DESCRIPTION:We're back for Denver's most bodacious brunch! Join us for bottomless mimosas\, an amazing menu\, and our tasty swing thing. No Cover!
LOCATION:Ophelia's Electric Soapbox\, 1215 20th Street\, Denver\, CO\, 80202
END:VEVENT
END:VCALENDAR
