BEGIN:VCALENDAR
VERSION:2.0
PRODID:-//AudioTheme 2.3.1
BEGIN:VEVENT
UID:urn:uuid:f7ca1466-be47-4ada-866a-8aa71032bc21
URL:https://halfpintgrowler.com/gigs/brunch-at-ophelias-electric-soapbox/
DTSTART;TZID=GMT:20191123T173000
SUMMARY:Brunch at Ophelia's Electric Soapbox
DESCRIPTION:Cockadoodledo! It's brunch with Half Pint & The Growlers. Amazing menu\, awesome drinks\, and awesome people – please join us!
LOCATION:Ophelia's Electric Soapbox\, 1215 20th Street\, Denver\, CO\, 80202
END:VEVENT
END:VCALENDAR
