BEGIN:VCALENDAR
VERSION:2.0
PRODID:-//AudioTheme 2.3.1
BEGIN:VEVENT
UID:urn:uuid:5b018dad-7276-4aea-ad72-dd105d377ea4
URL:https://halfpintgrowler.com/gigs/boulder-international-film-festival/
DTSTART;TZID=GMT:20200309T001500
SUMMARY:Boulder International Film Festival
DESCRIPTION:We can't wait to bring the swing to the Boulder International Film Festival's closing night event! Get your tickets for this and other BIFF screenings and music events. Visit biff1.com.
LOCATION:Boulder Theater\, 2032 14th Street\, Boulder\, CO\, USA\, 80302
END:VEVENT
END:VCALENDAR
