BEGIN:VCALENDAR
VERSION:2.0
PRODID:-//AudioTheme 2.3.1
BEGIN:VEVENT
UID:urn:uuid:13c41506-98d4-4f03-b81c-14beef8e9cbe
URL:https://halfpintgrowler.com/gigs/boulder-creek-hometown-festival/
DTSTART;TZID=GMT:20190902T190000
SUMMARY:Boulder Creek Hometown Festival
DESCRIPTION:We're downright giddy to bring our swing thing to one of Boulder County's most popular events! Check it out – there are so many fun activities. Meet you at the Bandshell!
LOCATION:Boulder Creek Hometown Festival\, 1212 Canyon Blvd.\, Boulder\, CO\, US\, 80302
END:VEVENT
END:VCALENDAR
