BEGIN:VCALENDAR
VERSION:2.0
PRODID:-//AudioTheme 2.3.1
BEGIN:VEVENT
UID:urn:uuid:4e1a8a15-93c4-4881-8dee-bea21d4bff04
URL:https://halfpintgrowler.com/gigs/bike-in-coffee/
DTSTART;TZID=GMT:20251116T190000
SUMMARY:Bike In Coffee
DESCRIPTION:Catch the last of the fall color in the Bosque with us! This urban farm is beautiful and they have the best burritos!
LOCATION:Bike In Coffee\, 949 Montoya Street NW\, Albuquerque\, NM\, USA\, 87104
END:VEVENT
END:VCALENDAR
