BEGIN:VCALENDAR
VERSION:2.0
PRODID:-//AudioTheme 2.3.1
BEGIN:VEVENT
UID:urn:uuid:7a062b67-ac24-4172-a9f3-e07fe53bd745
URL:https://halfpintgrowler.com/gigs/bike-in-coffee-outdoor-cafe/
DTSTART;TZID=GMT:20250831T173000
SUMMARY:Bike In Coffee Outdoor Cafe
DESCRIPTION:Hey you Staycationers! You know who you are\, ABQ peeps! Please join us for our Bike In Coffee debut. This is the sweetest urban farm right off the bike path! Come savor the shade\, our Swing Thing\, and Bike In Coffee's satisfying menu!
LOCATION:Bike In Coffee\, 949 Montoya Street NW\, Albuquerque\, NM\, USA\, 87104
END:VEVENT
END:VCALENDAR
