BEGIN:VCALENDAR
VERSION:2.0
PRODID:-//AudioTheme 2.3.1
BEGIN:VEVENT
UID:urn:uuid:ebe651f2-efcb-4fe0-9ca7-192000079ab2
URL:https://halfpintgrowler.com/gigs/bike-in-coffee-at-old-town-farm-abq/
DTSTART;TZID=GMT:20260222T190000
SUMMARY:Bike In Coffee at Old Town Farm ABQ
DESCRIPTION:We love playing at Bike In Coffee! This beautiful Old Town urban farm is a delight – and the best breakfast burritos anywhere. Check it out!
LOCATION:Bike In Coffee\, 949 Montoya Street NW\, Albuquerque\, NM\, USA\, 87104
END:VEVENT
END:VCALENDAR
