BEGIN:VCALENDAR
VERSION:2.0
PRODID:-//AudioTheme 2.3.1
BEGIN:VEVENT
UID:urn:uuid:0ca4a06c-b9dd-4704-acd3-1fdacd81d1c2
URL:https://halfpintgrowler.com/gigs/bike-in-coffee-abq/
DTSTART;TZID=GMT:20260426T180000
SUMMARY:Bike In Coffee ABQ
DESCRIPTION:It's springtime in ABQ and this is the spot to be! Join us at the beautiful Old Town Farm for an amazing brunch in this urban garden. 
LOCATION:Bike In Coffee\, 949 Montoya Street NW\, Albuquerque\, NM\, USA\, 87104
END:VEVENT
END:VCALENDAR
