BEGIN:VCALENDAR
VERSION:2.0
PRODID:-//AudioTheme 2.3.1
BEGIN:VEVENT
UID:urn:uuid:884f17aa-6463-451c-bea3-a0fe36f74aed
URL:https://halfpintgrowler.com/gigs/bike-in-coffee-2/
DTSTART;TZID=GMT:20260315T180000
SUMMARY:Bike In Coffee
DESCRIPTION:We're back at one of our favorite spots in ABQ! Please join us in a gorgeous setting for brunch.
LOCATION:Bike In Coffee\, 949 Montoya Street NW\, Albuquerque\, NM\, USA\, 87104
END:VEVENT
END:VCALENDAR
