BEGIN:VCALENDAR
VERSION:2.0
PRODID:-//AudioTheme 2.3.1
BEGIN:VEVENT
UID:urn:uuid:ea2dea7b-06a8-40a2-86e3-8782f5e62149
URL:https://halfpintgrowler.com/gigs/bear-creek-distillery/
DTSTART;TZID=GMT:20190215T020000
SUMMARY:Bear Creek Distillery
DESCRIPTION:Canciones de Amor y Bebida (Songs of Love and Drinking)  A Valentines Trio show with Oliver Jacobson on Violin. No Cover
LOCATION:Bear Creek Distillery\, 1879 S Acoma Street\, Denver\, CO\, 80223
END:VEVENT
END:VCALENDAR
