BEGIN:VCALENDAR
VERSION:2.0
PRODID:-//AudioTheme 2.3.1
BEGIN:VEVENT
UID:urn:uuid:32ecbcb3-79b0-4303-9f90-d79e384d4f24
URL:https://halfpintgrowler.com/gigs/bear-creek-distillery-2/
DTSTART;TZID=GMT:20181130T020000
SUMMARY:Bear Creek Distillery
LOCATION:Bear Creek Distillery\, 1879 S Acoma Street\, Denver\, CO\, 80223
END:VEVENT
END:VCALENDAR
