BEGIN:VCALENDAR
VERSION:2.0
PRODID:-//AudioTheme 2.3.1
BEGIN:VEVENT
UID:urn:uuid:bb97f413-9d65-410e-b772-e1328994d9fb
URL:https://halfpintgrowler.com/gigs/battery-621/
DTSTART;TZID=GMT:20180531T003000
SUMMARY:Battery 621
DESCRIPTION:Colorado Mountain Bike Association Annual Membership Party
LOCATION:Battery 621\, 621 Kalamath Street\, Denver\, CO\, 80204
END:VEVENT
END:VCALENDAR
