BEGIN:VCALENDAR
VERSION:2.0
PRODID:-//AudioTheme 2.3.1
BEGIN:VEVENT
UID:urn:uuid:9821aa6b-0d4f-4879-8de0-5b552975a109
URL:https://halfpintgrowler.com/gigs/battery-621-2/
DTSTART;TZID=GMT:20170519T000000
SUMMARY:Battery 621
DESCRIPTION:Colorado Mountain Bike Association Annual Membership Party
LOCATION:Battery 621\, 621 Kalamath Street\, Denver\, CO\, 80204
END:VEVENT
END:VCALENDAR
