BEGIN:VCALENDAR
VERSION:2.0
PRODID:-//AudioTheme 2.3.1
BEGIN:VEVENT
UID:urn:uuid:674120d5-2d02-471e-8e23-b9d7c42f3c6e
URL:https://halfpintgrowler.com/gigs/back-in-the-saddle-at-the-cowgirl/
DTSTART;TZID=GMT:20240309T200000
SUMMARY:Back in the saddle at The Cowgirl!
DESCRIPTION:Thank you Cowgirl for having us back to Santa Fe's favorite local hangout for BBQ and Bevs!
LOCATION:Cowgirl BBQ\, 319 S Guadalupe St\, Santa Fe\, NM\, 87501
END:VEVENT
END:VCALENDAR
