BEGIN:VCALENDAR
VERSION:2.0
PRODID:-//AudioTheme 2.3.1
BEGIN:VEVENT
UID:urn:uuid:bf0bb66d-e785-4059-97a5-085269d6691c
URL:https://halfpintgrowler.com/gigs/back-in-the-saddle-at-the-cowgirl-2/
DTSTART;TZID=GMT:20241123T200000
SUMMARY:We're back in the Saddle at the Cowgirl
DESCRIPTION:We couldn't be more excited to return to the Cowgirl! Santa Fe's favorite haunt for a reason\, y'all!
LOCATION:Cowgirl BBQ\, 319 S Guadalupe St\, Santa Fe\, NM\, 87501
END:VEVENT
END:VCALENDAR
