BEGIN:VCALENDAR
VERSION:2.0
PRODID:-//AudioTheme 2.3.1
BEGIN:VEVENT
UID:urn:uuid:f40b7802-869b-41b4-85a5-76c29f27f968
URL:https://halfpintgrowler.com/gigs/arvada-tavern/
DTSTART;TZID=GMT:20181229T030000
SUMMARY:Arvada Tavern
DESCRIPTION:No Cover
LOCATION:The Arvada Tavern\, 5707 Olde Wadsworth Blvd.\, Arvada\, CO\, 80002
END:VEVENT
END:VCALENDAR
