BEGIN:VCALENDAR
VERSION:2.0
PRODID:-//AudioTheme 2.3.1
BEGIN:VEVENT
UID:urn:uuid:f7f97717-2740-41eb-a269-dd306b33568d
URL:https://halfpintgrowler.com/gigs/arvada-tavern-3/
DTSTART;TZID=GMT:20170729T020000
SUMMARY:Arvada Tavern
LOCATION:The Arvada Tavern\, 5707 Olde Wadsworth Blvd.\, Arvada\, CO\, 80002
END:VEVENT
END:VCALENDAR
