BEGIN:VCALENDAR
VERSION:2.0
PRODID:-//AudioTheme 2.3.1
BEGIN:VEVENT
UID:urn:uuid:9535aed4-bdf1-4d77-b3ea-16c3f2ed3b20
URL:https://halfpintgrowler.com/gigs/arvada-tavern-2/
DTSTART;TZID=GMT:20180715T020000
SUMMARY:Arvada Tavern
LOCATION:The Arvada Tavern\, 5707 Olde Wadsworth Blvd.\, Arvada\, CO\, 80002
END:VEVENT
END:VCALENDAR
