BEGIN:VCALENDAR
VERSION:2.0
PRODID:-//AudioTheme 2.3.1
BEGIN:VEVENT
UID:urn:uuid:4c816720-c9f7-4966-87bb-97ab4cbac8b1
URL:https://halfpintgrowler.com/gigs/artwalk-santa-fe/
DTSTART;TZID=GMT:20220521T190000
SUMMARY:ArtWalk Santa Fe
DESCRIPTION:We can't wait to bring our Bohemian Swing to ArtWalk Santa Fe! Join us for art\, food\, and live music at Plaza Rosina in midtown Santa Fe. We're on from 1–3pm and Cassis Trio plays from 3–5pm. Food Truck: La Loncherita Salvadoreña. Hello Summer!
LOCATION:ArtWalk Santa Fe\, Plaza Rosina 1925 Rosina Street\, Santa Fe\, NM\, USA\, 87505
END:VEVENT
END:VCALENDAR
