BEGIN:VCALENDAR
VERSION:2.0
PRODID:-//AudioTheme 2.3.1
BEGIN:VEVENT
UID:urn:uuid:2f187d61-07e6-4ac8-b5b6-8d793a39e953
URL:https://halfpintgrowler.com/gigs/artwalk-santa-fe-2/
DTSTART;TZID=GMT:20220827T210000
SUMMARY:ArtWalk Santa Fe
DESCRIPTION:We're happy to return to ArtWalk Santa Fe and support emerging artists in the Santa Fe art scene. August's ArtWalk is being held in partnership with the Historic Santa Fe Foundation on beautiful Canyon Road. Please join us for a special duo performance!
LOCATION:ArtWalk Santa Fe\, Historic Santa Fe Foundation 545 Canyon Rd Suite 2\, Santa Fe\, NM\, 87501
END:VEVENT
END:VCALENDAR
