BEGIN:VCALENDAR
VERSION:2.0
PRODID:-//AudioTheme 2.3.1
BEGIN:VEVENT
UID:urn:uuid:c3864091-9e02-46c9-b8e3-7c3e98419107
URL:https://halfpintgrowler.com/gigs/alumni-dance-at-st-johns-college/
DTSTART;TZID=GMT:20240915T020000
SUMMARY:Alumni Dance at St. Johns College
LOCATION:Private Event\, You can have one too! Please contact us.\, Santa Fe\, NM
END:VEVENT
END:VCALENDAR
