BEGIN:VCALENDAR
VERSION:2.0
PRODID:-//AudioTheme 2.3.1
BEGIN:VEVENT
UID:urn:uuid:b210aced-6fec-44ab-acbc-f6edd8e44b4e
URL:https://halfpintgrowler.com/gigs/altar-spirits/
DTSTART;TZID=GMT:20220717T180000
SUMMARY:Altar Spirits
DESCRIPTION:Join us for jazz brunch in the Sun Room at this beautiful new craft distillery in the Railyard district! 
LOCATION:As Above So Below (formerly Altar Spirits)\, 545 Camino de la Familia\, Santa Fe\, NM\, 87501
END:VEVENT
END:VCALENDAR
