BEGIN:VCALENDAR
VERSION:2.0
PRODID:-//AudioTheme 2.3.1
BEGIN:VEVENT
UID:urn:uuid:e0d39aab-70d6-4817-8468-e9c2feac0a22
URL:https://halfpintgrowler.com/gigs/albuquerque-downtown-growers-market/
DTSTART;TZID=GMT:20250503T160000
SUMMARY:Albuquerque Downtown Growers Market
DESCRIPTION:We are so excited to play in Tam's old stomping ground. This is one of our favorite gigs in one of ABQ's best markets. Swing on by!
LOCATION:Downtown Grower's Market Albuquerque\, Robinson Park 810 Copper Ave. NW\, Albuquerque\, NM\, 87102
END:VEVENT
END:VCALENDAR
