BEGIN:VCALENDAR
VERSION:2.0
PRODID:-//AudioTheme 2.3.1
BEGIN:VEVENT
UID:urn:uuid:1cdfc443-c8c5-4c27-8895-1e5f87682790
URL:https://halfpintgrowler.com/gigs/ahymo-wine-garden/
DTSTART;TZID=GMT:20260913T220000
SUMMARY:Ahymo Wine Garden
DESCRIPTION:Please join us on lovely Canyon Road in Santa Fe at Ahymo Wine Garden. Sunshine and a lush patio await!
LOCATION:Ahymo Wine Garden\, 652 Canyon Rd\, Santa Fe\, NM\, 87501
END:VEVENT
END:VCALENDAR
