BEGIN:VCALENDAR
VERSION:2.0
PRODID:-//AudioTheme 2.3.1
BEGIN:VEVENT
UID:urn:uuid:47757c53-102a-4f17-a66f-9ddcb0b1fba5
URL:https://halfpintgrowler.com/gigs/abq-downtown-growers-market/
DTSTART;TZID=GMT:20240629T160000
SUMMARY:ABQ Downtown Grower's Market
DESCRIPTION:Hello Albuquerque peeps! We're so excited to return to this outstanding makers and growers market in the heart of downtown Albuquerque. Please join us for huge breakfast burritos\, fresh local veggies and other treats\, and a little swing gumbo from HPGs!
LOCATION:Downtown Grower's Market Albuquerque\, Robinson Park 810 Copper Ave. NW\, Albuquerque\, NM\, 87102
END:VEVENT
END:VCALENDAR
