BEGIN:VCALENDAR
VERSION:2.0
PRODID:-//AudioTheme 2.3.1
BEGIN:VEVENT
UID:urn:uuid:f53aa9eb-c4cd-4052-b979-82c1477bf7bf
URL:https://halfpintgrowler.com/gigs/6th-annual-santa-fe-beer-food-fest/
DTSTART;TZID=GMT:20240811T193000
SUMMARY:6th Annual Santa Fe Beer & Food Fest
DESCRIPTION:Cheers to local brews\, great eats\, live entertainment\, and homegrown hops featuring NM breweries and artisan vendors.
LOCATION:El Rancho de las Golondrinas\, 334 Los Pinos Rd\, Santa Fe\, NM\, USA\, 87507
END:VEVENT
END:VCALENDAR
