BEGIN:VCALENDAR
VERSION:2.0
PRODID:-//AudioTheme 2.3.1
BEGIN:VEVENT
UID:urn:uuid:82c1992d-ba38-4dc3-8cfd-b1f812057578
URL:https://halfpintgrowler.com/gigs/2020-06-25/
DTSTART;TZID=GMT:20200626T011500
SUMMARY:Golden Summer Jam
DESCRIPTION:CANCELED  Golden Civic Foundation's Summer Jam Concert is a Golden favorite. We're so excited to bring our swing to this family-friendly event.
LOCATION:Colorado Railroad Museum\, 17155 W 44th Ave\, Golden\, CO\, 80403
END:VEVENT
END:VCALENDAR
